BEGIN:VCALENDAR
VERSION:2.0
PRODID:-//New Denver - ECPv6.15.20//NONSGML v1.0//EN
CALSCALE:GREGORIAN
METHOD:PUBLISH
X-ORIGINAL-URL:https://newdenver.ca
X-WR-CALDESC:Events for New Denver
REFRESH-INTERVAL;VALUE=DURATION:PT1H
X-Robots-Tag:noindex
X-PUBLISHED-TTL:PT1H
BEGIN:VTIMEZONE
TZID:America/Vancouver
BEGIN:DAYLIGHT
TZOFFSETFROM:-0800
TZOFFSETTO:-0700
TZNAME:PDT
DTSTART:20240310T100000
END:DAYLIGHT
BEGIN:STANDARD
TZOFFSETFROM:-0700
TZOFFSETTO:-0800
TZNAME:PST
DTSTART:20241103T090000
END:STANDARD
BEGIN:DAYLIGHT
TZOFFSETFROM:-0800
TZOFFSETTO:-0700
TZNAME:PDT
DTSTART:20250309T100000
END:DAYLIGHT
BEGIN:STANDARD
TZOFFSETFROM:-0700
TZOFFSETTO:-0800
TZNAME:PST
DTSTART:20251102T090000
END:STANDARD
BEGIN:DAYLIGHT
TZOFFSETFROM:-0800
TZOFFSETTO:-0700
TZNAME:PDT
DTSTART:20260308T100000
END:DAYLIGHT
BEGIN:STANDARD
TZOFFSETFROM:-0700
TZOFFSETTO:-0800
TZNAME:PST
DTSTART:20261101T090000
END:STANDARD
BEGIN:DAYLIGHT
TZOFFSETFROM:-0800
TZOFFSETTO:-0700
TZNAME:PDT
DTSTART:20270314T100000
END:DAYLIGHT
BEGIN:STANDARD
TZOFFSETFROM:-0700
TZOFFSETTO:-0800
TZNAME:PST
DTSTART:20271107T090000
END:STANDARD
END:VTIMEZONE
BEGIN:VEVENT
DTSTART;TZID=America/Vancouver:20260414T190000
DTEND;TZID=America/Vancouver:20260414T220000
DTSTAMP:20260423T020222
CREATED:20260107T002602Z
LAST-MODIFIED:20260107T002602Z
UID:10000903-1776193200-1776204000@newdenver.ca
SUMMARY:April Regular Council Meeting
DESCRIPTION:
URL:https://newdenver.ca/event/april-regular-council-meeting/
LOCATION:Council Chambers\, 115 Slocan Ave\, New Denver\, British Columbia\, V0G 1S0\, Canada
CATEGORIES:Council Meetings
ORGANIZER;CN="Village of New Denver":MAILTO:office@newdenver.ca
END:VEVENT
BEGIN:VEVENT
DTSTART;TZID=America/Vancouver:20260324T190000
DTEND;TZID=America/Vancouver:20260324T220000
DTSTAMP:20260423T020222
CREATED:20260107T004307Z
LAST-MODIFIED:20260107T004307Z
UID:10000915-1774378800-1774389600@newdenver.ca
SUMMARY:March Committee of the Whole Meeting
DESCRIPTION:
URL:https://newdenver.ca/event/march-committee-of-the-whole-meeting/
LOCATION:Council Chambers\, 115 Slocan Ave\, New Denver\, British Columbia\, V0G 1S0\, Canada
CATEGORIES:Committee Meetings
ORGANIZER;CN="Village of New Denver":MAILTO:office@newdenver.ca
END:VEVENT
BEGIN:VEVENT
DTSTART;TZID=America/Vancouver:20260310T190000
DTEND;TZID=America/Vancouver:20260310T220000
DTSTAMP:20260423T020222
CREATED:20260107T001918Z
LAST-MODIFIED:20260107T002054Z
UID:10000902-1773169200-1773180000@newdenver.ca
SUMMARY:March Regular Council Meeting
DESCRIPTION:
URL:https://newdenver.ca/event/march-regular-council-meeting/
LOCATION:Council Chambers\, 115 Slocan Ave\, New Denver\, British Columbia\, V0G 1S0\, Canada
CATEGORIES:Council Meetings
ORGANIZER;CN="Village of New Denver":MAILTO:office@newdenver.ca
END:VEVENT
BEGIN:VEVENT
DTSTART;TZID=America/Vancouver:20260224T190000
DTEND;TZID=America/Vancouver:20260224T220000
DTSTAMP:20260423T020222
CREATED:20260107T004219Z
LAST-MODIFIED:20260107T004219Z
UID:10000914-1771959600-1771970400@newdenver.ca
SUMMARY:February Committee of the Whole Meeting
DESCRIPTION:
URL:https://newdenver.ca/event/february-committee-of-the-whole-meeting/
LOCATION:Council Chambers\, 115 Slocan Ave\, New Denver\, British Columbia\, V0G 1S0\, Canada
CATEGORIES:Committee Meetings
ORGANIZER;CN="Village of New Denver":MAILTO:office@newdenver.ca
END:VEVENT
BEGIN:VEVENT
DTSTART;TZID=America/Vancouver:20260210T190000
DTEND;TZID=America/Vancouver:20260210T220000
DTSTAMP:20260423T020222
CREATED:20260107T001648Z
LAST-MODIFIED:20260107T002008Z
UID:10000901-1770750000-1770760800@newdenver.ca
SUMMARY:February Regular Council Meeting
DESCRIPTION:
URL:https://newdenver.ca/event/february-regular-council-meeting/
LOCATION:Council Chambers\, 115 Slocan Ave\, New Denver\, British Columbia\, V0G 1S0\, Canada
CATEGORIES:Council Meetings
ORGANIZER;CN="Village of New Denver":MAILTO:office@newdenver.ca
END:VEVENT
BEGIN:VEVENT
DTSTART;TZID=America/Vancouver:20260127T190000
DTEND;TZID=America/Vancouver:20260127T220000
DTSTAMP:20260423T020222
CREATED:20260107T004040Z
LAST-MODIFIED:20260107T004040Z
UID:10000913-1769540400-1769551200@newdenver.ca
SUMMARY:January Committee of the Whole Meeting
DESCRIPTION:
URL:https://newdenver.ca/event/january-committee-of-the-whole-meeting/
LOCATION:Council Chambers\, 115 Slocan Ave\, New Denver\, British Columbia\, V0G 1S0\, Canada
CATEGORIES:Committee Meetings
ORGANIZER;CN="Village of New Denver":MAILTO:office@newdenver.ca
END:VEVENT
BEGIN:VEVENT
DTSTART;TZID=America/Vancouver:20260113T190000
DTEND;TZID=America/Vancouver:20260113T220000
DTSTAMP:20260423T020222
CREATED:20260107T000940Z
LAST-MODIFIED:20260107T001517Z
UID:10000900-1768330800-1768341600@newdenver.ca
SUMMARY:January Regular Council Meeting
DESCRIPTION:
URL:https://newdenver.ca/event/january-regular-council-meeting/
LOCATION:Council Chambers\, 115 Slocan Ave\, New Denver\, British Columbia\, V0G 1S0\, Canada
CATEGORIES:Council Meetings
ORGANIZER;CN="Village of New Denver":MAILTO:office@newdenver.ca
END:VEVENT
BEGIN:VEVENT
DTSTART;TZID=America/Vancouver:20251125T190000
DTEND;TZID=America/Vancouver:20251125T210000
DTSTAMP:20260423T020222
CREATED:20250818T234008Z
LAST-MODIFIED:20250818T234856Z
UID:10000818-1764097200-1764104400@newdenver.ca
SUMMARY:Committee of the Whole Meeting
DESCRIPTION:
URL:https://newdenver.ca/event/committee-of-the-whole-meeting-2-3/2025-11-25/
CATEGORIES:Municipal Events
ORGANIZER;CN="Village of New Denver":MAILTO:office@newdenver.ca
END:VEVENT
BEGIN:VEVENT
DTSTART;TZID=America/Vancouver:20251112T190000
DTEND;TZID=America/Vancouver:20251112T210000
DTSTAMP:20260423T020222
CREATED:20250722T231658Z
LAST-MODIFIED:20250722T231811Z
UID:10000894-1762974000-1762981200@newdenver.ca
SUMMARY:Regular Council Meeting
DESCRIPTION:November’s Regular Council Meeting is scheduled for Wednesday\, November 12 to accommodate Remembrance Day on Tuesday\, November 11.
URL:https://newdenver.ca/event/regular-council-meeting-2/
LOCATION:Council Chambers\, 115 Slocan Ave\, New Denver\, British Columbia\, V0G 1S0\, Canada
CATEGORIES:Council Meetings
ORGANIZER;CN="Village of New Denver":MAILTO:office@newdenver.ca
END:VEVENT
BEGIN:VEVENT
DTSTART;TZID=America/Vancouver:20251028T190000
DTEND;TZID=America/Vancouver:20251028T210000
DTSTAMP:20260423T020222
CREATED:20250818T234008Z
LAST-MODIFIED:20250818T234856Z
UID:10000817-1761678000-1761685200@newdenver.ca
SUMMARY:Committee of the Whole Meeting
DESCRIPTION:
URL:https://newdenver.ca/event/committee-of-the-whole-meeting-2-3/2025-10-28/
CATEGORIES:Municipal Events
ORGANIZER;CN="Village of New Denver":MAILTO:office@newdenver.ca
END:VEVENT
END:VCALENDAR